BEGIN:VCALENDAR
VERSION:2.0
PRODID:-//Bartlett-Resistance - ECPv6.15.20//NONSGML v1.0//EN
CALSCALE:GREGORIAN
METHOD:PUBLISH
X-WR-CALNAME:Bartlett-Resistance
X-ORIGINAL-URL:https://bartlett-resistance.org
X-WR-CALDESC:Events for Bartlett-Resistance
REFRESH-INTERVAL;VALUE=DURATION:PT1H
X-Robots-Tag:noindex
X-PUBLISHED-TTL:PT1H
BEGIN:VTIMEZONE
TZID:America/Chicago
BEGIN:DAYLIGHT
TZOFFSETFROM:-0600
TZOFFSETTO:-0500
TZNAME:CDT
DTSTART:20250309T080000
END:DAYLIGHT
BEGIN:STANDARD
TZOFFSETFROM:-0500
TZOFFSETTO:-0600
TZNAME:CST
DTSTART:20251102T070000
END:STANDARD
BEGIN:DAYLIGHT
TZOFFSETFROM:-0600
TZOFFSETTO:-0500
TZNAME:CDT
DTSTART:20260308T080000
END:DAYLIGHT
BEGIN:STANDARD
TZOFFSETFROM:-0500
TZOFFSETTO:-0600
TZNAME:CST
DTSTART:20261101T070000
END:STANDARD
BEGIN:DAYLIGHT
TZOFFSETFROM:-0600
TZOFFSETTO:-0500
TZNAME:CDT
DTSTART:20270314T080000
END:DAYLIGHT
BEGIN:STANDARD
TZOFFSETFROM:-0500
TZOFFSETTO:-0600
TZNAME:CST
DTSTART:20271107T070000
END:STANDARD
END:VTIMEZONE
BEGIN:VEVENT
DTSTART;TZID=America/Chicago:20260501T160000
DTEND;TZID=America/Chicago:20260501T180000
DTSTAMP:20260421T044420
CREATED:20260419T191745Z
LAST-MODIFIED:20260419T193023Z
UID:1770-1777651200-1777658400@bartlett-resistance.org
SUMMARY:May Day Strong Rally
DESCRIPTION:We have decided to do a May Day Strong “Workers Over Billionaires” event on Friday\, May 1\, from 4:00 – 6:00 p.m.\, at our usual location (the intersection of Stearns and South Bartlett Road). \nI’m awaiting approval from the May Day Strong organization. Upon approval\, the event will be posted for registration online at this link: https://mobilize.us/s/D3bEEc \nYou don’t have to register to attend\, but it always helps us get a better handle on numbers. If you’ve registered through Mobilize for any past events that I’ve hosted\, you’ll probably receive a separate email from Mobilize about this May Day event. \nI’m pasting a description of the “Workers Over Billionaires” event from May Day Strong below. \nGlenn \n“Because when the billionaires break every rule\, it’s going to take more than a rally to stop them. \n“Our Demands for May 1st – Tax the rich so our families\, not their fortunes\, come first. No ICE. No war. No private army serving unchecked federal power. Expand democracy\, not corporate power. Hands off our vote. \n“Together we will be flexing our collective muscle in a tremendous day of power – showing our unity through a day of marches\, rallies\, and actions including No Work No School No Shopping in many cities. \n“Join us as together we celebrate May 1st through action and community.” \nMayDayStrong
URL:https://bartlett-resistance.org/event/may-day-strong-rally/
LOCATION:Corner of South Bartlett Road and West Stearns Road\, Bartlett\, IL\, 60103\, United States
ORGANIZER;CN="Glenn Stanko":MAILTO:glennstanko76@gmail.com
END:VEVENT
END:VCALENDAR